BEGIN:VCALENDAR
VERSION:2.0
PRODID:-//Paarberatung Aulendorf - ECPv6.15.16//NONSGML v1.0//EN
CALSCALE:GREGORIAN
METHOD:PUBLISH
X-ORIGINAL-URL:https://paarberatungaulendorf.de
X-WR-CALDESC:Veranstaltungen für Paarberatung Aulendorf
REFRESH-INTERVAL;VALUE=DURATION:PT1H
X-Robots-Tag:noindex
X-PUBLISHED-TTL:PT1H
BEGIN:VTIMEZONE
TZID:Europe/Berlin
BEGIN:DAYLIGHT
TZOFFSETFROM:+0100
TZOFFSETTO:+0200
TZNAME:CEST
DTSTART:20220327T010000
END:DAYLIGHT
BEGIN:STANDARD
TZOFFSETFROM:+0200
TZOFFSETTO:+0100
TZNAME:CET
DTSTART:20221030T010000
END:STANDARD
BEGIN:DAYLIGHT
TZOFFSETFROM:+0100
TZOFFSETTO:+0200
TZNAME:CEST
DTSTART:20230326T010000
END:DAYLIGHT
BEGIN:STANDARD
TZOFFSETFROM:+0200
TZOFFSETTO:+0100
TZNAME:CET
DTSTART:20231029T010000
END:STANDARD
BEGIN:DAYLIGHT
TZOFFSETFROM:+0100
TZOFFSETTO:+0200
TZNAME:CEST
DTSTART:20240331T010000
END:DAYLIGHT
BEGIN:STANDARD
TZOFFSETFROM:+0200
TZOFFSETTO:+0100
TZNAME:CET
DTSTART:20241027T010000
END:STANDARD
END:VTIMEZONE
BEGIN:VEVENT
DTSTART;TZID=Europe/Berlin:20231002T190000
DTEND;TZID=Europe/Berlin:20231002T200000
DTSTAMP:20260421T140052
CREATED:20230524T103557Z
LAST-MODIFIED:20230603T131052Z
UID:458-1696273200-1696276800@paarberatungaulendorf.de
SUMMARY:Paarfit Online Treffen
DESCRIPTION:
URL:https://paarberatungaulendorf.de/event/paarfit-online-treffen-4/
LOCATION:https://us04web.zoom.us/j/5313219541?pwd=BsUaPjAeC0xbsbBRF34nXl89awIx0N.1
CATEGORIES:Paarfit-Online
ATTACH;FMTTYPE=image/webp:https://paarberatungaulendorf.de/wp-content/uploads/Paarfit-Online-Treffen.webp
END:VEVENT
BEGIN:VEVENT
DTSTART;TZID=Europe/Berlin:20231006T200000
DTEND;TZID=Europe/Berlin:20231006T220000
DTSTAMP:20260421T140052
CREATED:20230926T172058Z
LAST-MODIFIED:20230927T082944Z
UID:695-1696622400-1696629600@paarberatungaulendorf.de
SUMMARY:Zeit zu Zweit
DESCRIPTION:Termin und Ort: 6. / 13. / 20. / 27. Oktober 2023\, 20 – 22 Uhr \nKosten: 80€ pro Paar \nBitte per Mail oder Anruf anmelden
URL:https://paarberatungaulendorf.de/event/zeit-zu-zweit/
LOCATION:Katholisches Gemeindehaus St. Martin\, Kolpingstr. 4\, Aulendorf\, 88326
CATEGORIES:Sonderevent
ATTACH;FMTTYPE=image/webp:https://paarberatungaulendorf.de/wp-content/uploads/Zeit-zu-Zweit-Details.webp
ORGANIZER;CN="Claudia Reinhard":MAILTO:achtsam@paarberatungaulendorf.de
END:VEVENT
END:VCALENDAR